BEGIN:VCALENDAR
PRODID:-//PUBBLE//agenda//NL
VERSION:2.0
METHOD:PUBLISH
BEGIN:VEVENT
DTSTART:20260426T200000Z
DTEND:20260426T210000Z
DTSTAMP:20260425T031114Z
UID:c7de0527-d633-488c-985c-ca202c7c1dc5
CREATED:20260425T031114Z
NAME:Koningsnacht Heerenveen grootheerenveen.nl
X-WR-CALNAME:Koningsnacht Heerenveen
X-ALT-DESC;FMTTYPE=text/html:<a href='/agenda/2026/4/26/koningsnacht-heerenveen-130175'>/agenda/2026/4/26/koningsnacht-heerenveen-130175</a> || <p>Bron: centrumheerenveen.nl</p>
DESCRIPTION:<a href='/agenda/2026/4/26/koningsnacht-heerenveen-130175'>/agenda/2026/4/26/koningsnacht-heerenveen-130175</a> || <p>Bron: centrumheerenveen.nl</p>
LAST-MODIFIED:20260425T031114Z
LOCATION: Onbekend | Gemeenteplein  Heerenveen
SEQUENCE:0
STATUS:CONFIRMED
SUMMARY:Koningsnacht Heerenveen
TRANSP:OPAQUE
END:VEVENT
END:VCALENDAR
