BEGIN:VCALENDAR
PRODID:-//PUBBLE//agenda//NL
VERSION:2.0
METHOD:PUBLISH
BEGIN:VEVENT
DTSTART:20260427T140000Z
DTEND:20260427T150000Z
DTSTAMP:20260425T031046Z
UID:ede9e648-e717-4dde-8500-4bd1976acf6a
CREATED:20260425T031046Z
NAME:Koningsdag Heerenveen grootheerenveen.nl
X-WR-CALNAME:Koningsdag Heerenveen
X-ALT-DESC;FMTTYPE=text/html:<a href='/agenda/2026/4/27/koningsdag-heerenveen-130174'>/agenda/2026/4/27/koningsdag-heerenveen-130174</a> || <p>Bron: centrumheerenveen.nl</p>
DESCRIPTION:<a href='/agenda/2026/4/27/koningsdag-heerenveen-130174'>/agenda/2026/4/27/koningsdag-heerenveen-130174</a> || <p>Bron: centrumheerenveen.nl</p>
LAST-MODIFIED:20260425T031046Z
LOCATION: Onbekend | Gemeenteplein  Heerenveen
SEQUENCE:0
STATUS:CONFIRMED
SUMMARY:Koningsdag Heerenveen
TRANSP:OPAQUE
END:VEVENT
END:VCALENDAR
