BEGIN:VCALENDAR
PRODID:-//PUBBLE//agenda//NL
VERSION:2.0
METHOD:PUBLISH
BEGIN:VEVENT
DTSTART:20250806T080000Z
DTEND:20250806T150000Z
DTSTAMP:20260419T130822Z
UID:7bb37644-0c85-4a1f-8dfa-8faad28a3149
CREATED:20260419T130822Z
NAME:Sneekweek Hardzeildagbraderie grootheerenveen.nl
X-WR-CALNAME:Sneekweek Hardzeildagbraderie
X-ALT-DESC;FMTTYPE=text/html:<a href='/agenda/2025/8/6/sneekweek-hardzeildagbraderie-107811'>/agenda/2025/8/6/sneekweek-hardzeildagbraderie-107811</a> || <p>Bezoek de Sneker Hardzeildagbraderie op woensdag!</p>
<p>Op woensda kunnen bezoekers genieten van een gezellige Hardzeildagbraderie in de Sneekweek. Met ongeveer 100 kramen is deze braderie een absolute must. De markt biedt een breed en gevarieerd aanbod aan producten, waaronder unieke items, trendy kleding, schitterende sieraden, stijlvolle zonnebrillen, en allerlei hebbedingen. Daarnaast zijn er streekproducten, lifestyle-artikelen en bijzondere producten met een uniek verhaal te ontdekken.</p>
<p>Heb je na al dat shoppen trek gekregen? Geen probleem! Diverse foodtrucks en foodstands staan klaar om je van heerlijke lekkernijen te voorzien. Terwijl je geniet van al het lekkers, zorgen live muziekoptredens en ander vermaak in de stad voor een bruisende sfeer.&nbsp; Natuurlijk kun je ook terecht op één van van de vele terrassen in de stad en de winkels in het centrum staan ook klaar om je met open armen te ontvangen.&nbsp;</p>
<p>Van tien uur ’s ochtends tot vijf uur ’s middags loopt de braderie over het Grootzand, Leeuwenburg, Nauwe Burgstraat, Wijde Burgstraat en dit jaar ook op de Oosterdijk.</p>
<p>We hopen jullie allemaal te zien in het centrum van Sneek op 6 augustus.</p>
DESCRIPTION:<a href='/agenda/2025/8/6/sneekweek-hardzeildagbraderie-107811'>/agenda/2025/8/6/sneekweek-hardzeildagbraderie-107811</a> || <p>Bezoek de Sneker Hardzeildagbraderie op woensdag!</p>
<p>Op woensda kunnen bezoekers genieten van een gezellige Hardzeildagbraderie in de Sneekweek. Met ongeveer 100 kramen is deze braderie een absolute must. De markt biedt een breed en gevarieerd aanbod aan producten, waaronder unieke items, trendy kleding, schitterende sieraden, stijlvolle zonnebrillen, en allerlei hebbedingen. Daarnaast zijn er streekproducten, lifestyle-artikelen en bijzondere producten met een uniek verhaal te ontdekken.</p>
<p>Heb je na al dat shoppen trek gekregen? Geen probleem! Diverse foodtrucks en foodstands staan klaar om je van heerlijke lekkernijen te voorzien. Terwijl je geniet van al het lekkers, zorgen live muziekoptredens en ander vermaak in de stad voor een bruisende sfeer.&nbsp; Natuurlijk kun je ook terecht op één van van de vele terrassen in de stad en de winkels in het centrum staan ook klaar om je met open armen te ontvangen.&nbsp;</p>
<p>Van tien uur ’s ochtends tot vijf uur ’s middags loopt de braderie over het Grootzand, Leeuwenburg, Nauwe Burgstraat, Wijde Burgstraat en dit jaar ook op de Oosterdijk.</p>
<p>We hopen jullie allemaal te zien in het centrum van Sneek op 6 augustus.</p>
LAST-MODIFIED:20260419T130822Z
LOCATION: Centrum | Grootzand 2 SNEEK
SEQUENCE:0
STATUS:CONFIRMED
SUMMARY:Sneekweek Hardzeildagbraderie
TRANSP:OPAQUE
END:VEVENT
END:VCALENDAR
